BEGIN:VCALENDAR
VERSION:2.0
PRODID:-//eventon.com NONSGML v1.0//EN
CALSCALE:GREGORIAN
METHOD:PUBLISH
BEGIN:VEVENT
UID:69e74081c0e6a
DTSTAMP:20260421T091649Z
DTSTART:20260117T190000Z
DTEND:20260117T225900Z
LOCATION:Imágenes Club C/ Campos Crespo 7 46017
SUMMARY:Último Tren
DESCRIPTION:\nhttps://popyentradas.com/events/ultimo-tren-5
URL:https://popyentradas.com/events/ultimo-tren-5
END:VEVENT
END:VCALENDAR