BEGIN:VCALENDAR
VERSION:2.0
PRODID:-//eventon.com NONSGML v1.0//EN
CALSCALE:GREGORIAN
METHOD:PUBLISH
BEGIN:VEVENT
UID:69e74ea063d3c
DTSTAMP:20260421T101704Z
DTSTART:20260130T190000Z
DTEND:20260130T225900Z
LOCATION:Imágenes Club C/ Campos Crespo 7 46017
SUMMARY:Arreu
DESCRIPTION:Con la entrada incluye refresco o cerveza.\nhttps://popyentrada
 s.com/events/arreu-2
URL:https://popyentradas.com/events/arreu-2
END:VEVENT
END:VCALENDAR