BEGIN:VCALENDAR
VERSION:2.0
PRODID:-//eventon.com NONSGML v1.0//EN
CALSCALE:GREGORIAN
METHOD:PUBLISH
BEGIN:VEVENT
UID:69e64bda8d5c5
DTSTAMP:20260420T155258Z
DTSTART:20260424T210000Z
DTEND:20260424T215900Z
LOCATION:Imágenes Club C/ Campos Crespo 7 46017
SUMMARY:José Coll Dj
DESCRIPTION:\nhttps://popyentradas.com/events/jose-coll-dj-8
URL:https://popyentradas.com/events/jose-coll-dj-8
END:VEVENT
END:VCALENDAR