BEGIN:VCALENDAR
VERSION:2.0
PRODID:-//eventon.com NONSGML v1.0//EN
CALSCALE:GREGORIAN
METHOD:PUBLISH
BEGIN:VEVENT
UID:69e745f9dfb56
DTSTAMP:20260421T094009Z
DTSTART:20230506T170000Z
DTEND:20230506T193000Z
LOCATION:Patio Flamenco DARSENA DE LA LEVANTE S/N 29639 PUERTO MARINA BENALMADENA
SUMMARY:PATIO FLAMENCO
DESCRIPTION:Esta (maldita) pandemia ha puesto de manifiesto la importancia 
 de estar conectado con uno mismo y con los demás. En Andalucia lo encontra
 mos buscando la ESENCIA\,  nuestra ALMA\,  que para nosotros es el flamenco
 \,  y a su vez éste nos permite conectar con los demás de forma universal
  a través[..]\nhttps://popyentradas.com/events/patio-flamenco-06-05
URL:https://popyentradas.com/events/patio-flamenco-06-05
END:VEVENT
END:VCALENDAR