BEGIN:VCALENDAR
VERSION:2.0
PRODID:-//eventon.com NONSGML v1.0//EN
CALSCALE:GREGORIAN
METHOD:PUBLISH
BEGIN:VEVENT
UID:69e74de0a051a
DTSTAMP:20260421T101352Z
DTSTART:20230826T213000Z
DTEND:20230826T215000Z
LOCATION:Sala M&#039;Art Av. Horta de Santa Maria\,  4\,  43850 Cambrils\,  Tarragona
SUMMARY:DamiÃ¡n Lescano - Cambrils
DESCRIPTION:DamiÃ¡n Lescano es una de las figuras mÃ¡s importantes de la mÃ
 ºsica tropical uruguaya\,  con mÃ¡s de diez aÃ±os de trayectoria en el gÃ©n
 ero. Su primer paso fue en la orquesta CHIKANO (2005)\,  donde tuvo un brev
 e ciclo de dos meses que le permitiÃ³ pasar a integrar la banda de[..]\nhtt
 ps://popyentradas.com/events/damian-lescano-salou
URL:https://popyentradas.com/events/damian-lescano-salou
END:VEVENT
END:VCALENDAR