BEGIN:VCALENDAR
VERSION:2.0
PRODID:-//eventon.com NONSGML v1.0//EN
CALSCALE:GREGORIAN
METHOD:PUBLISH
BEGIN:VEVENT
UID:69e7326510713
DTSTAMP:20260421T081637Z
DTSTART:20230903T190000Z
DTEND:20230903T215000Z
LOCATION:Independance Club C/ Atocha\,  125 28012 Madrid
SUMMARY:DamiÃ¡n Lescano - Madrid
DESCRIPTION:DamiÃ¡n Lescano es una de las figuras mÃ¡s importantes de la mÃ
 ºsica tropical uruguaya\,  con mÃ¡s de diez aÃ±os de trayectoria en el gÃ©n
 ero. Su primer paso fue en la orquesta CHIKANO (2005)\,  donde tuvo un brev
 e ciclo de dos meses que le permitiÃ³ pasar a integrar la banda de[..]\nhtt
 ps://popyentradas.com/events/damian-lescano-madrid
URL:https://popyentradas.com/events/damian-lescano-madrid
END:VEVENT
END:VCALENDAR