BEGIN:VCALENDAR
VERSION:2.0
PRODID:-//eventon.com NONSGML v1.0//EN
CALSCALE:GREGORIAN
METHOD:PUBLISH
BEGIN:VEVENT
UID:69e744dfca2b3
DTSTAMP:20260421T093527Z
DTSTART:20230923T180000Z
DTEND:20230923T175900Z
LOCATION:Imágenes Club C/ Campos Crespo 7 46017
SUMMARY:Blue Moon
DESCRIPTION:Regreso a los escenarios de una de las legendarias bandas del p
 anorama estatal\,  hablamos de Blue Moon. Será el sábado 23 de septiembre
  en la sala Imágenes Club\,  Calle Campos Crespo\,  7\,  de Valencia\,  a 
 partir de las 20:00 h.\nhttps://popyentradas.com/events/blue-moon
URL:https://popyentradas.com/events/blue-moon
END:VEVENT
END:VCALENDAR