BEGIN:VCALENDAR
VERSION:2.0
PRODID:-//eventon.com NONSGML v1.0//EN
CALSCALE:GREGORIAN
METHOD:PUBLISH
BEGIN:VEVENT
UID:69e4e4a1153fe
DTSTAMP:20260419T142017Z
DTSTART:20231012T193000Z
DTEND:20231012T215000Z
LOCATION:Madison Concert Club C/ Polideportivo\,  23 46470 Massanassa (Valencia)
SUMMARY:Terapia De Murga - Valencia
DESCRIPTION:Los clásico murgueros que todos quieren volver a cantar. Canci
 ones\,  retiradas\,  couplés\,  tangos\,  interpretados por una verdadera 
 selección de murguistas.\nhttps://popyentradas.com/events/terapia-de-murga
 -valencia
URL:https://popyentradas.com/events/terapia-de-murga-valencia
END:VEVENT
END:VCALENDAR