BEGIN:VCALENDAR
VERSION:2.0
PRODID:-//eventon.com NONSGML v1.0//EN
CALSCALE:GREGORIAN
METHOD:PUBLISH
BEGIN:VEVENT
UID:69e746617164a
DTSTAMP:20260421T094153Z
DTSTART:20231223T180000Z
DTEND:20231223T225000Z
LOCATION:Imágenes Club C/ Campos Crespo 7 46017
SUMMARY:Revival
DESCRIPTION:\nhttps://popyentradas.com/events/revival
URL:https://popyentradas.com/events/revival
END:VEVENT
END:VCALENDAR