BEGIN:VCALENDAR
VERSION:2.0
PRODID:-//eventon.com NONSGML v1.0//EN
CALSCALE:GREGORIAN
METHOD:PUBLISH
BEGIN:VEVENT
UID:69e4c60167052
DTSTAMP:20260419T120937Z
DTSTART:20231103T191500Z
DTEND:20231103T225000Z
LOCATION:Imágenes Club C/ Campos Crespo 7 46017
SUMMARY:Simone Vals (Concierto Bandas Sonoras)
DESCRIPTION:Concierto Bandas Sonoras\,  con la protagonista Simone Vals\,  
 que vuelve a subirse a los escenarios para interpretar las mejores cancione
 s de películas de animación\,  openings de animes\,  videojuegos\,  serie
 s\,  etc…&nbsp; Temas de Juego De Tronos\,  Videojuegos como Skyrim\,  Pe
 lículas como El Hobbit\,  El Príncipe De Egipto\,  Spirit\,  Ha Nacido Un
 a[..]\nhttps://popyentradas.com/events/simone-vals-concierto-bandas-sonoras
URL:https://popyentradas.com/events/simone-vals-concierto-bandas-sonoras
END:VEVENT
END:VCALENDAR